 


BEGIN:VCALENDAR
VERSION:2.0
PRODID:-//wp-events-plugin.com//7.2.3.1//EN
TZID:Europe/London
X-WR-TIMEZONE:Europe/London
BEGIN:VEVENT
UID:397@monckton.com
DTSTART;TZID=Europe/London:20260430T083000
DTEND;TZID=Europe/London:20260430T130000
DTSTAMP:20260310T091018Z
URL:https://www.monckton.com/event/westminster-legal-policy-forum-conferen
 ce-next-steps-for-legal-professional-ethics-in-the-uk/
SUMMARY:Westminster Legal Policy Forum conference: Next steps for legal pro
 fessional ethics in the UK
DESCRIPTION:Lord Bellamy KC will chair a session at the seminar\, which wil
 l examine the next steps for legal professional ethics in the UK\, and mea
 sures to strengthen workplace culture and address misconduct. The conferen
 ce will assess recent regulatory proposals\, including the results and pla
 nned implementation phase of the consultation by the Legal Services Board 
 on policies related to the ethical responsibilities of in-house counsel\, 
 litigation conduct\, non-disclosure agreements\, and strategic lawsuits ag
 ainst public participation.\n\nFor more information and registration pleas
 e click here.
ATTACH;FMTTYPE=image/jpeg:https://www.monckton.com/wp-content/uploads/2020
 /10/SirChristopherBellamy-scaled.jpg
CATEGORIES:General
END:VEVENT
BEGIN:VTIMEZONE
TZID:Europe/London
X-LIC-LOCATION:Europe/London
BEGIN:DAYLIGHT
DTSTART:20260329T020000
TZOFFSETFROM:+0000
TZOFFSETTO:+0100
TZNAME:BST
END:DAYLIGHT
END:VTIMEZONE
END:VCALENDAR