 


BEGIN:VCALENDAR
VERSION:2.0
PRODID:-//wp-events-plugin.com//7.2.3.1//EN
TZID:Europe/London
X-WR-TIMEZONE:Europe/London
BEGIN:VEVENT
UID:268@monckton.com
DTSTART;TZID=Europe/London:20210602T140000
DTEND;TZID=Europe/London:20210602T153000
DTSTAMP:20210603T111518Z
URL:https://www.monckton.com/event/webinar-if-bidders-collude-how-can-nati
 ons-cooperate/
SUMMARY:Webinar - If Bidders Collude\, How Can Nations Cooperate?
DESCRIPTION:&nbsp\;\n\nMichael Bowsher QC will join the panel to discuss ke
 y developments in how Europe and the United States are combating bidder co
 llusion.\n\nThe recording of the webinar can be found here.
CATEGORIES:General,Webinars
END:VEVENT
BEGIN:VTIMEZONE
TZID:Europe/London
X-LIC-LOCATION:Europe/London
BEGIN:DAYLIGHT
DTSTART:20210328T020000
TZOFFSETFROM:+0000
TZOFFSETTO:+0100
TZNAME:BST
END:DAYLIGHT
END:VTIMEZONE
END:VCALENDAR