 


BEGIN:VCALENDAR
VERSION:2.0
PRODID:-//wp-events-plugin.com//7.2.3.1//EN
TZID:Europe/London
X-WR-TIMEZONE:Europe/London
BEGIN:VEVENT
UID:306@monckton.com
DTSTART;TZID=Europe/London:20220921T120000
DTEND;TZID=Europe/London:20220921T140000
DTSTAMP:20241126T003334Z
URL:https://www.monckton.com/event/vat-ipt-lunch-and-learn/
SUMMARY:VAT/IPT lunch and learn
DESCRIPTION:Monckton Chambers and PKF Littlejohn invite you to attend a ‘
 Lunch and Learn’ session on Wednesday 21 September at Victorian Bath Hou
 se (a stone’s throw from Liverpool Street Station) to update you on:\n\n
  	HMRC’s current arguments in VAT / IPT case law surrounding insurance /
  insurance-related supplies\n 	What the courts have decided so far in rela
 tion to HMRC’s views\n 	What you can do to protect yourself from potenti
 al future VAT / IPT costs and / or protect your position through VAT / IPT
  repayment claims to HMRC where appropriate.\n\nRegistration will open at 
 midday with a buffet lunch available and the session itself running from 1
 2.30 to 2.00pm.\n\nValentina Sloane KC\, Peter Mantle and Brendan McGurk w
 ill be speaking.
CATEGORIES:General
LOCATION:The Victorian House\, 7-8 Bishopsgate\, Churchyard\, London\, EC2M
  3TJ\, United Kingdom
GEO:51.516713;-0.082862
X-APPLE-STRUCTURED-LOCATION;VALUE=URI;X-ADDRESS=7-8 Bishopsgate\, Churchyar
 d\, London\, EC2M 3TJ\, United Kingdom;X-APPLE-RADIUS=100;X-TITLE=The Vict
 orian House:geo:51.516713,-0.082862
END:VEVENT
BEGIN:VTIMEZONE
TZID:Europe/London
X-LIC-LOCATION:Europe/London
BEGIN:DAYLIGHT
DTSTART:20220327T020000
TZOFFSETFROM:+0000
TZOFFSETTO:+0100
TZNAME:BST
END:DAYLIGHT
END:VTIMEZONE
END:VCALENDAR