 


BEGIN:VCALENDAR
VERSION:2.0
PRODID:-//wp-events-plugin.com//7.2.3.1//EN
TZID:Europe/London
X-WR-TIMEZONE:Europe/London
BEGIN:VEVENT
UID:182@monckton.com
DTSTART;TZID=Europe/London;VALUE=DATE:20191023
DTEND;TZID=Europe/London;VALUE=DATE:20191025
DTSTAMP:20200520T054810Z
URL:https://www.monckton.com/event/uppsala-procurement-conference-2019/
SUMMARY:Uppsala - Procurement Conference 2019
DESCRIPTION:The much-appreciated Procurement Conference will be returning t
 his year and contains six key Note Speakers\, a general debate and 12 high
 -level seminars with fantastic speakers and talented moderators this year.
 \n\nThis is the conference for those who work with or are interested in th
 e law regarding public procurement and how the rules on public procurement
  are to be interpreted and applied in practice.\n\nMichael Bower QC will b
 e talking on "What's wrong with public procurement law? It's supposed to d
 o so many good things\, so it makes a difference and why do we spend so mu
 ch time trying to get around it?"\n\nFor further information please click 
 here.
CATEGORIES:General
LOCATION:\, \, 
X-APPLE-STRUCTURED-LOCATION;VALUE=URI;X-ADDRESS=\, ;X-APPLE-RADIUS=100;X-TI
 TLE=:geo:0,0
END:VEVENT
BEGIN:VTIMEZONE
TZID:Europe/London
X-LIC-LOCATION:Europe/London
BEGIN:DAYLIGHT
DTSTART:20190331T020000
TZOFFSETFROM:+0000
TZOFFSETTO:+0100
TZNAME:BST
END:DAYLIGHT
END:VTIMEZONE
END:VCALENDAR