 


BEGIN:VCALENDAR
VERSION:2.0
PRODID:-//wp-events-plugin.com//7.2.3.1//EN
TZID:Europe/London
X-WR-TIMEZONE:Europe/London
BEGIN:VEVENT
UID:256@monckton.com
DTSTART;TZID=Europe/London:20210325T173000
DTEND;TZID=Europe/London:20210325T190000
DTSTAMP:20240220T153553Z
URL:https://www.monckton.com/event/uk-competition-law-post-brexit/
SUMMARY:UK Competition Law Post-Brexit
DESCRIPTION:&nbsp\;\n\nCompetition law was hitherto heavily regulated by EU
  law. This webinar considers the future of UK competition law in a post-Br
 exit world and will address central issues of competition law and policy. 
 Anneli Howard will examine issues relating to private enforcement and clas
 s actions.\n\nFor further information and to book\, please click here.
CATEGORIES:General,Webinars
END:VEVENT
BEGIN:VTIMEZONE
TZID:Europe/London
X-LIC-LOCATION:Europe/London
BEGIN:STANDARD
DTSTART:20201025T010000
TZOFFSETFROM:+0100
TZOFFSETTO:+0000
TZNAME:GMT
END:STANDARD
END:VTIMEZONE
END:VCALENDAR