 


BEGIN:VCALENDAR
VERSION:2.0
PRODID:-//wp-events-plugin.com//7.2.3.1//EN
TZID:Europe/London
X-WR-TIMEZONE:Europe/London
BEGIN:VEVENT
UID:11@monckton.com
DTSTART;TZID=Europe/London;VALUE=DATE:20140904
DTEND;TZID=Europe/London;VALUE=DATE:20140905
DTSTAMP:20250108T144625Z
URL:https://www.monckton.com/event/transnational-surveillance-workshop-int
 ernet-governance-forum/
SUMMARY:Transnational Surveillance workshop at the Internet Governance Foru
 m
DESCRIPTION:Eric Metcalfe is speaking on transnational surveillance and cro
 ss-border privacy protection at a workshop at the seventh annual meeting o
 f the United Nations Internet Governance Forum in Istanbul\, Turkey on 4 S
 eptember. The workshop\, hosted by the Electroinic Frontier Foundation and
  ARTICLE 19\, will focus on recent developments in international human rig
 hts law in relation to privacy and surveillance\, as well as the recent la
 unch of the International Principles on the Application of Human Rights La
 w on Communications Surveillance.
CATEGORIES:General
END:VEVENT
BEGIN:VTIMEZONE
TZID:Europe/London
X-LIC-LOCATION:Europe/London
BEGIN:DAYLIGHT
DTSTART:20140330T020000
TZOFFSETFROM:+0000
TZOFFSETTO:+0100
TZNAME:BST
END:DAYLIGHT
END:VTIMEZONE
END:VCALENDAR