 


BEGIN:VCALENDAR
VERSION:2.0
PRODID:-//wp-events-plugin.com//7.2.3.1//EN
TZID:Europe/London
X-WR-TIMEZONE:Europe/London
BEGIN:VEVENT
UID:282@monckton.com
DTSTART;TZID=Europe/London:20211208T140000
DTEND;TZID=Europe/London:20211208T153000
DTSTAMP:20241220T141723Z
URL:https://www.monckton.com/event/third-annual-uk-competition-litigation-
 conference-competition-litigation-involving-big-tech/
SUMMARY:Third Annual UK Competition Litigation Conference: Competition Liti
 gation Involving Big Tech
DESCRIPTION:14:00 – 15:30\n\nThe digital giants are increasingly facing l
 itigation issues in the UK and Europe. These issues range from appeals aga
 inst enforcement decisions to new collective actions and emerging actions 
 around data and privacy. For the second session of our Third Annual UK Com
 petition Litigation Conference\, our panel of experts take an up-close loo
 k at some of the most significant cases of 2021 involving the world’s la
 rgest digital tech companies. Our experts will also examine claimant and d
 efendant perspectives and explore critical conceptual issues (such as valu
 ing damages from foreclosure or in two-sided markets) in these cases.\n\nC
 hair:\nMeredith Pickford QC\, Barrister\, Monckton Chambers\n\nSpeakers:\n
 Lesley Hannah\, Partner\, Hausfeld LLP\nRonit Kreisberger QC\, Barrister\,
  Monckton Chambers\nDr Nicola Tosini\, Director\, NERA Economic Consulting
 \nSteven Vaz\, Partner\, Ashurst
CATEGORIES:General,Webinars
END:VEVENT
BEGIN:VTIMEZONE
TZID:Europe/London
X-LIC-LOCATION:Europe/London
BEGIN:STANDARD
DTSTART:20211031T010000
TZOFFSETFROM:+0100
TZOFFSETTO:+0000
TZNAME:GMT
END:STANDARD
END:VTIMEZONE
END:VCALENDAR