 


BEGIN:VCALENDAR
VERSION:2.0
PRODID:-//wp-events-plugin.com//7.2.3.1//EN
TZID:Europe/London
X-WR-TIMEZONE:Europe/London
BEGIN:VEVENT
UID:247@monckton.com
DTSTART;TZID=Europe/London:20210218T130000
DTEND;TZID=Europe/London:20210218T140000
DTSTAMP:20260330T203834Z
URL:https://www.monckton.com/event/the-uk-legal-regime-after-brexit-what-e
 very-lawyer-needs-to-know-uk-internal-market-law/
SUMMARY:The UK legal regime after Brexit – what every lawyer needs to kno
 w: UK Internal Market Law
DESCRIPTION:&nbsp\;\n\nThe end of the transition period has brought with it
  seismic changes to the legal landscape. Please see below details and regi
 stration link for the fourth webinar of our new EU Relations webinar serie
 s discussing these changes entitled: “The UK legal regime after Brexit 
 – what every lawyer needs to know”.\nThe panel will discuss (inter ali
 a) the Internal Market Act 2020\, the meaning and application of the marke
 t access commitments\, the Act’s impact on devolution\, and potential li
 tigation arising from the Act.\nChair: Ian Rogers QC\n\nGeorge Peretz QC\n
 Anneli Howard\nAlan Bates\nTom Sebastian\n\nPlease also check out our new 
 EU Relations Law blog\, covering all aspects of the Withdrawal Agreement\,
  the Trade and Cooperation Agreement (plus accompanying agreements and dec
 larations)\, and the UK internal market.
CATEGORIES:General,Webinars
END:VEVENT
BEGIN:VTIMEZONE
TZID:Europe/London
X-LIC-LOCATION:Europe/London
BEGIN:STANDARD
DTSTART:20201025T010000
TZOFFSETFROM:+0100
TZOFFSETTO:+0000
TZNAME:GMT
END:STANDARD
END:VTIMEZONE
END:VCALENDAR