 


BEGIN:VCALENDAR
VERSION:2.0
PRODID:-//wp-events-plugin.com//7.2.3.1//EN
TZID:Europe/London
X-WR-TIMEZONE:Europe/London
BEGIN:VEVENT
UID:243@monckton.com
DTSTART;TZID=Europe/London:20210121T130000
DTEND;TZID=Europe/London:20210121T140000
DTSTAMP:20240328T154027Z
URL:https://www.monckton.com/event/the-uk-legal-regime-after-brexit-what-e
 very-lawyer-needs-to-know-post-brexit-litigation-in-uk-courts-10-things-ev
 ery-litigator-needs-to-know/
SUMMARY:The UK legal regime after Brexit – what every lawyer needs to kno
 w: Post-Brexit litigation in UK courts – 10 things every litigator needs
  to know
DESCRIPTION:The end of the transition period has brought with it seismic ch
 anges to the legal landscape. Please see below details and registration li
 nk for the first webinar of our new EU Relations webinar series discussing
  these changes entitled: “The UK legal regime after Brexit – what ever
 y lawyer needs to know”.\n\nDuring this webinar the panel will discuss (
 inter alia): Retained EU Law\; departing from EU case-law\; validity chall
 enges\; damages and effective remedies\; challenging Brexit regulations\; 
 the implementation of the Withdrawal Agreements and TCA into domestic law\
 ; and litigating the TCA in UK courts.\n\nChair: Anneli Howard\n\nTom Seba
 stian\nJack Williams\nMorag Ross QC (Scotland) (Axiom Advocates\, Edinburg
 h)\n\nPlease also check out our new EU Relations Law blog\, covering all a
 spects of the Withdrawal Agreement\, the Trade and Cooperation Agreement (
 plus accompanying agreements and declarations)\, and the UK internal marke
 t.
CATEGORIES:General,Webinars
END:VEVENT
BEGIN:VTIMEZONE
TZID:Europe/London
X-LIC-LOCATION:Europe/London
BEGIN:STANDARD
DTSTART:20201025T010000
TZOFFSETFROM:+0100
TZOFFSETTO:+0000
TZNAME:GMT
END:STANDARD
END:VTIMEZONE
END:VCALENDAR