 


BEGIN:VCALENDAR
VERSION:2.0
PRODID:-//wp-events-plugin.com//7.2.3.1//EN
TZID:Europe/London
X-WR-TIMEZONE:Europe/London
BEGIN:VEVENT
UID:238@monckton.com
DTSTART;TZID=Europe/London:20201210T140000
DTEND;TZID=Europe/London:20201210T153000
DTSTAMP:20250131T135229Z
URL:https://www.monckton.com/event/the-second-annual-uk-competition-litiga
 tion-conference-a-class-apart-class-certification-battles/
SUMMARY:The second annual UK Competition Litigation Conference: A Class\, A
 part—Class Certification Battles
DESCRIPTION:2021 will see class representatives battle for certification. T
 he Panel will discuss the impacts of the Supreme Court on how compensatory
  Damage is determined and allocated. And what learnings there are from oth
 er jurisdictions on how economic evidence is used to challenge class compo
 sition.\n\nChair:\nPhilip Moser QC\, Barrister\, Joint Head of Monckton Ch
 ambers\n\nSpeakers:\nBoris Bronfentrinker\, Partner\, Co-Head of the Compe
 tition Litigation Practice\, Quinn Emanuel Urquhart &amp\; Sullivan\, LLP\
 nKenny Henderson\, Partner\, CMS Cameron McKenna Nabaro Olswang LLP\nDr. L
 awrence Wu\, President\, NERA Economic Consulting\n\nDiscussants:\nDr. Ai 
 Deng\, Associate Director\, NERA Economic Consulting\nStefan Kuppen\, Barr
 ister\, Monckton Chambers
CATEGORIES:General,Webinars
END:VEVENT
BEGIN:VTIMEZONE
TZID:Europe/London
X-LIC-LOCATION:Europe/London
BEGIN:STANDARD
DTSTART:20201025T010000
TZOFFSETFROM:+0100
TZOFFSETTO:+0000
TZNAME:GMT
END:STANDARD
END:VTIMEZONE
END:VCALENDAR