 


BEGIN:VCALENDAR
VERSION:2.0
PRODID:-//wp-events-plugin.com//7.2.3.1//EN
TZID:Europe/London
X-WR-TIMEZONE:Europe/London
BEGIN:VEVENT
UID:318@monckton.com
DTSTART;TZID=Europe/London;VALUE=DATE:20221201
DTEND;TZID=Europe/London;VALUE=DATE:20221202
DTSTAMP:20221116T105953Z
URL:https://www.monckton.com/event/the-fourth-annual-uk-competition-litiga
 tion-conference/
SUMMARY:The Fourth Annual UK Competition Litigation Conference
DESCRIPTION:Please join Monckton Chambers\, NERA Economic Consulting\, and 
 Augusta Ventures for a conference celebrating recent developments in compe
 tition litigation in the UK and ringing in 2023. This is the fourth annual
  conference and happily again together in person at the ME Hotel.\n\nLord 
 Justice Green of the Court of Appeal of England and Wales will start the c
 onference’s discussion\, followed by six panels then discussing differen
 t aspects of the regime\, recent cases\, and the year ahead. We will cover
  key recent decisions\, innovations in the strategy and process of bringin
 g litigation\, the role of experts\, and the new Subsidy Control rules.\n\
 nAs before\, we bring together leading lawyers\, King’s Counsel\, academ
 ics\, and economists to discuss competition litigation in the UK.\n\nWe th
 en warmly welcome delegates to celebrate the season of cheer with an eveni
 ng champagne reception while enjoying panoramic views of London from the R
 adio Rooftop Bar.\n\nFor more information\, to see the programme for the d
 ay and to register your place\, please click here.
ATTACH;FMTTYPE=image/jpeg:https://www.monckton.com/wp-content/uploads/2022
 /10/4th-UK-Competition-Litigation-Conference-approved-artwork.jpg
CATEGORIES:General,Seminars
LOCATION:ME London Hotel\, 336-337 Strand\, London\, WC2R 1HA\, United King
 dom
GEO:51.512022;-0.118331
X-APPLE-STRUCTURED-LOCATION;VALUE=URI;X-ADDRESS=336-337 Strand\, London\, W
 C2R 1HA\, United Kingdom;X-APPLE-RADIUS=100;X-TITLE=ME London Hotel:geo:51
 .512022,-0.118331
END:VEVENT
BEGIN:VTIMEZONE
TZID:Europe/London
X-LIC-LOCATION:Europe/London
BEGIN:STANDARD
DTSTART:20221030T010000
TZOFFSETFROM:+0100
TZOFFSETTO:+0000
TZNAME:GMT
END:STANDARD
END:VTIMEZONE
END:VCALENDAR