 


BEGIN:VCALENDAR
VERSION:2.0
PRODID:-//wp-events-plugin.com//7.2.3.1//EN
TZID:Europe/London
X-WR-TIMEZONE:Europe/London
BEGIN:VEVENT
UID:342@monckton.com
DTSTART;TZID=Europe/London;VALUE=DATE:20230606
DTEND;TZID=Europe/London;VALUE=DATE:20230607
DTSTAMP:20230524T064139Z
URL:https://www.monckton.com/event/the-competition-collective-actions-foru
 m-2023/
SUMMARY:The Competition Collective Actions Forum 2023
DESCRIPTION:Ronit Kreisberger KC will be speaking on "Highlighting Key Coll
 ective Decisions and Procedural Innovations Over the Last Year".\n\nFor mo
 re information and registration please click here.
ATTACH;FMTTYPE=image/jpeg:https://www.monckton.com/wp-content/uploads/2019
 /03/Ronit.KREISBERGER-25904-HS2-scaled.jpg
CATEGORIES:General,Seminars
LOCATION:The Clermont London\, Strand\, Charing Cross\, London\, WC2N 5HX\,
  United Kingdom
GEO:51.50879;-0.125011
X-APPLE-STRUCTURED-LOCATION;VALUE=URI;X-ADDRESS=Strand\, Charing Cross\, Lo
 ndon\, WC2N 5HX\, United Kingdom;X-APPLE-RADIUS=100;X-TITLE=The Clermont L
 ondon:geo:51.50879,-0.125011
END:VEVENT
BEGIN:VTIMEZONE
TZID:Europe/London
X-LIC-LOCATION:Europe/London
BEGIN:DAYLIGHT
DTSTART:20230326T020000
TZOFFSETFROM:+0000
TZOFFSETTO:+0100
TZNAME:BST
END:DAYLIGHT
END:VTIMEZONE
END:VCALENDAR