 


BEGIN:VCALENDAR
VERSION:2.0
PRODID:-//wp-events-plugin.com//7.2.3.1//EN
TZID:Europe/London
X-WR-TIMEZONE:Europe/London
BEGIN:VEVENT
UID:330@monckton.com
DTSTART;TZID=Europe/London:20230330T173000
DTEND;TZID=Europe/London:20230330T200000
DTSTAMP:20230315T102834Z
URL:https://www.monckton.com/event/subsidy-control-putting-the-uks-new-reg
 ime-into-practice-early-insights-and-what-we-have-learned-so-far/
SUMMARY:Subsidy Control: Putting the UK's new regime into practice - early 
 insights and what we have learned so far
DESCRIPTION:George Peretz KC will join representatives from The UK State Ai
 d Law Association for a panel discussion at Browne Jacobson’s central L
 ondon office.\n\nFor more information please click here.
ATTACH;FMTTYPE=image/jpeg:https://www.monckton.com/wp-content/uploads/2019
 /05/George-PERETZ-QC-HS-28132-tinypng-scaled.jpg
CATEGORIES:General,Seminars
LOCATION:Browne Jacobson LLP\, 15th Floor\, 6 Bevis Marks\, London \, EC3A 
 7BA\, United Kingdom
GEO:51.514836;-0.079454
X-APPLE-STRUCTURED-LOCATION;VALUE=URI;X-ADDRESS=15th Floor\, 6 Bevis Marks\
 , London \, EC3A 7BA\, United Kingdom;X-APPLE-RADIUS=100;X-TITLE=Browne Ja
 cobson LLP:geo:51.514836,-0.079454
END:VEVENT
BEGIN:VTIMEZONE
TZID:Europe/London
X-LIC-LOCATION:Europe/London
BEGIN:DAYLIGHT
DTSTART:20230326T020000
TZOFFSETFROM:+0000
TZOFFSETTO:+0100
TZNAME:BST
END:DAYLIGHT
END:VTIMEZONE
END:VCALENDAR