 


BEGIN:VCALENDAR
VERSION:2.0
PRODID:-//wp-events-plugin.com//7.2.3.1//EN
TZID:Europe/London
X-WR-TIMEZONE:Europe/London
BEGIN:VEVENT
UID:255@monckton.com
DTSTART:20210304T163000Z
DTEND:20210304T180000Z
DTSTAMP:20250108T144439Z
URL:https://www.monckton.com/event/spot-the-difference-state-aid-vs-subsid
 ies-regime-after-the-eu-uk-tca/
SUMMARY:Spot the Difference: state aid vs subsidies regime after the EU-UK 
 TCA
DESCRIPTION:&nbsp\;\n\nThe Centre of European Law at King’s College Londo
 n and CEPS have teamed up to organise a high-level expert seminar on the i
 mplications of Chapter 3 of the EU-UK Trade and Cooperation Agreement (TCA
 ) devoted to the regulation of subsidies.\n\nThis seminar will provide an 
 academic forum to discuss in closer detail the scope of the subsidy contro
 l regime and bring into question the concept of a subsidy according to the
  TCA. We will look closer at the system of enforcement\, analyse possible 
 remedies for potential breaches of the agreement and discuss the developme
 nt of a new UK system of subsidies control.\n\nIn the chair Christopher Va
 jda QC. Anneli Howard will be speaking on the TCA impact on UK law.
CATEGORIES:General,Webinars
END:VEVENT
END:VCALENDAR