 


BEGIN:VCALENDAR
VERSION:2.0
PRODID:-//wp-events-plugin.com//7.2.3.1//EN
TZID:Europe/London
X-WR-TIMEZONE:Europe/London
BEGIN:VEVENT
UID:317@monckton.com
DTSTART;TZID=Europe/London:20221110T180000
DTEND;TZID=Europe/London:20221110T180000
DTSTAMP:20221018T101644Z
URL:https://www.monckton.com/event/pupillage-evening-2022/
SUMMARY:Pupillage Evening 2022
DESCRIPTION:Monckton Chambers is delighted to invite prospective pupil appl
 icants to join our Barristers for an informal evening where you will hear 
 from Members of Chambers discuss life as a tenant at Monckton.
ATTACH;FMTTYPE=image/jpeg:https://www.monckton.com/wp-content/uploads/2022
 /10/monckton.chambers.pupillage.evening.jpg
CATEGORIES:General,Pupillage
LOCATION:The Large Pension Room\, The Honourable Society of Gray's Inn\, 8 
 South Square\, London\, WC1R 5ET\, United Kingdom
GEO:51.51929;-0.112253
X-APPLE-STRUCTURED-LOCATION;VALUE=URI;X-ADDRESS=The Honourable Society of G
 ray's Inn\, 8 South Square\, London\, WC1R 5ET\, United Kingdom;X-APPLE-RA
 DIUS=100;X-TITLE=The Large Pension Room:geo:51.51929,-0.112253
END:VEVENT
BEGIN:VTIMEZONE
TZID:Europe/London
X-LIC-LOCATION:Europe/London
BEGIN:STANDARD
DTSTART:20221030T010000
TZOFFSETFROM:+0100
TZOFFSETTO:+0000
TZNAME:GMT
END:STANDARD
END:VTIMEZONE
END:VCALENDAR