 


BEGIN:VCALENDAR
VERSION:2.0
PRODID:-//wp-events-plugin.com//7.2.3.1//EN
TZID:Europe/London
X-WR-TIMEZONE:Europe/London
BEGIN:VEVENT
UID:155@monckton.com
DTSTART;TZID=Europe/London:20181116T090000
DTEND;TZID=Europe/London:20181116T170000
DTSTAMP:20200520T054809Z
URL:https://www.monckton.com/event/public-procurement-shaping-the-rules-in
 to-solution-focused-answers-for-clients/
SUMMARY:Public Procurement: Shaping the Rules into Solution-Focused Answers
  for Clients
DESCRIPTION:Answers to 13 Thorny Questions: Directly from 12 QCs\, Solicito
 rs\, Judges and Policy Maker\n\nMichael Bowsher QC will be speaking on "Ho
 w can authorities mitigate against actual\, potential\, unwitting or perce
 ived conflicts of interest in the tender process?"\n\nValentina Sloane wi
 ll be speaking on "How are transparency requirements changing after Energy
 Solutions v NDA?"
CATEGORIES:General
LOCATION:\, \, 
X-APPLE-STRUCTURED-LOCATION;VALUE=URI;X-ADDRESS=\, ;X-APPLE-RADIUS=100;X-TI
 TLE=:geo:0,0
END:VEVENT
BEGIN:VTIMEZONE
TZID:Europe/London
X-LIC-LOCATION:Europe/London
BEGIN:STANDARD
DTSTART:20181028T010000
TZOFFSETFROM:+0100
TZOFFSETTO:+0000
TZNAME:GMT
END:STANDARD
END:VTIMEZONE
END:VCALENDAR