 


BEGIN:VCALENDAR
VERSION:2.0
PRODID:-//wp-events-plugin.com//7.2.3.1//EN
TZID:Europe/London
X-WR-TIMEZONE:Europe/London
BEGIN:VEVENT
UID:18@monckton.com
DTSTART;TZID=Europe/London:20141114T090000
DTEND;TZID=Europe/London:20141114T170000
DTSTAMP:20240329T124959Z
URL:https://www.monckton.com/event/public-procurement-shaping-new-rules-hi
 ghly-developed-advice-clients/
SUMMARY:Public Procurement: Shaping the New Rules into Highly Developed Adv
 ice for Clients
DESCRIPTION:Skilful and Farseeing Answers to 16 Thorny Public Procurement Q
 uestions: Directly from the European Commission\, 6 QCs and 4 Outstanding 
 Solicitors\n\nMichael Bowsher QC will be talking on the topic "To what ext
 ent do the new rules make it possible to punish poor prior performance and
  thereby reduce the operator's chances?"\n\n&nbsp\;\n\n&nbsp\;
CATEGORIES:General
LOCATION:Downing College\, Regent Street\, Cambridge\, CB2 1DQ\, United Kin
 gdom
X-APPLE-STRUCTURED-LOCATION;VALUE=URI;X-ADDRESS=Regent Street\, Cambridge\,
  CB2 1DQ\, United Kingdom;X-APPLE-RADIUS=100;X-TITLE=Downing College:geo:0
 ,0
END:VEVENT
BEGIN:VTIMEZONE
TZID:Europe/London
X-LIC-LOCATION:Europe/London
BEGIN:STANDARD
DTSTART:20141026T010000
TZOFFSETFROM:+0100
TZOFFSETTO:+0000
TZNAME:GMT
END:STANDARD
END:VTIMEZONE
END:VCALENDAR