 


BEGIN:VCALENDAR
VERSION:2.0
PRODID:-//wp-events-plugin.com//7.2.3.1//EN
TZID:Europe/London
X-WR-TIMEZONE:Europe/London
BEGIN:VEVENT
UID:262@monckton.com
DTSTART;TZID=Europe/London:20210427T134500
DTEND;TZID=Europe/London:20210427T170000
DTSTAMP:20210420T142211Z
URL:https://www.monckton.com/event/public-procurement-law-an-update/
SUMMARY:Public Procurement Law: An Update
DESCRIPTION:This virtual conference is a comprehensive half-day event for a
 ll those who need to keep up to date with the latest developments in publi
 c procurement law\, including private practice lawyers\, in-house lawyers\
 , public sector lawyers and all others involved with public procurement co
 ntracts.\n\nMichael Bowsher QC and Ewan West will be speaking.\n\nFor furt
 her information and to book\, please click here.
CATEGORIES:General,Webinars
END:VEVENT
BEGIN:VTIMEZONE
TZID:Europe/London
X-LIC-LOCATION:Europe/London
BEGIN:DAYLIGHT
DTSTART:20210328T020000
TZOFFSETFROM:+0000
TZOFFSETTO:+0100
TZNAME:BST
END:DAYLIGHT
END:VTIMEZONE
END:VCALENDAR