 


BEGIN:VCALENDAR
VERSION:2.0
PRODID:-//wp-events-plugin.com//7.2.3.1//EN
TZID:Europe/London
X-WR-TIMEZONE:Europe/London
BEGIN:VEVENT
UID:254@monckton.com
DTSTART;TZID=Europe/London;VALUE=DATE:20210309
DTEND;TZID=Europe/London;VALUE=DATE:20210310
DTSTAMP:20210224T172051Z
URL:https://www.monckton.com/event/private-enforcement-of-competition-law-
 conference/
SUMMARY:Private Enforcement of Competition Law Conference
DESCRIPTION:Take advantage of the opportunities available by reviewing nati
 onal developments in private enforcement across Europe. Compare winning st
 rategies\, whether you are a claimant or a defendant.\nDiscover the latest
  tactical approaches in light of Trucks\, Merricks\, BritNed and other key
  cases.\n\nAnneli Howard will be on the panel discussing Big Tech &amp\; O
 pportunities for Other Damages Actions Beyond Cartels.\n\nFor further info
 rmation and to book\, please click here.\n\n\n&nbsp\;\n\n
CATEGORIES:General,Webinars
END:VEVENT
BEGIN:VTIMEZONE
TZID:Europe/London
X-LIC-LOCATION:Europe/London
BEGIN:STANDARD
DTSTART:20201025T010000
TZOFFSETFROM:+0100
TZOFFSETTO:+0000
TZNAME:GMT
END:STANDARD
END:VTIMEZONE
END:VCALENDAR