 


BEGIN:VCALENDAR
VERSION:2.0
PRODID:-//wp-events-plugin.com//7.2.3.1//EN
TZID:Europe/London
X-WR-TIMEZONE:Europe/London
BEGIN:VEVENT
UID:292@monckton.com
DTSTART;TZID=Europe/London:20220307T133000
DTEND;TZID=Europe/London:20220307T143000
DTSTAMP:20240925T140113Z
URL:https://www.monckton.com/event/preparing-for-the-subsidy-control-act-2
 022/
SUMMARY:Preparing for the Subsidy Control Act 2022
DESCRIPTION:George Peretz QC will be speaking at the Lexxion's free webinar
  on "Preparing for the Subsidy Control Act 2022" which will be held at 12.
 30am on Monday 7th March 2022.\n\n&nbsp\;
CATEGORIES:General,Webinars
END:VEVENT
BEGIN:VTIMEZONE
TZID:Europe/London
X-LIC-LOCATION:Europe/London
BEGIN:STANDARD
DTSTART:20211031T010000
TZOFFSETFROM:+0100
TZOFFSETTO:+0000
TZNAME:GMT
END:STANDARD
END:VTIMEZONE
END:VCALENDAR