 


BEGIN:VCALENDAR
VERSION:2.0
PRODID:-//wp-events-plugin.com//7.2.3.1//EN
TZID:Europe/London
X-WR-TIMEZONE:Europe/London
BEGIN:VEVENT
UID:223@monckton.com
DTSTART;TZID=Europe/London:20201207T170000
DTEND;TZID=Europe/London:20201207T180000
DTSTAMP:20210223T105716Z
URL:https://www.monckton.com/event/monckton-faculty-of-law-webinar-series-
 on-eu-relations-law-a-level-playing-field-for-eu-uk-economic-relations/
SUMMARY:Monckton - Cambridge Faculty of Law Webinar Series on EU Relations 
 Law: A Level Playing Field for EU-UK Economic Relations
DESCRIPTION:For both the EU and the UK\, protection of their autonomy has d
 efined the terms of their mandates for the negotiations. For the EU\, prot
 ecting its autonomy means that a zero quotas and zero tariffs free trade a
 greement gives the UK significant market access that exposes it to potenti
 ally unfair competition from the UK unless the UK agrees to abide by level
  playing field requirements. For the UK\, protection of its autonomy means
  that the UK should be free to define its own regulatory policy and the ro
 le of the state in the economy. But it is not just public intervention in 
 the market that is in issue. Brexit will see the UK’s Competition and Ma
 rkets Authority develop its mandate across its anti-trust and mergers juri
 sdiction while also potentially acquiring a new state aid control function
 . In this webinar\, we explore how potential distortions to competition wi
 ll be manage in the new EU relations legal framework.\n\nChair: Judge Ian
  Forrester\, former judge at the General Court\, CJEU\n\nSpeakers:\nProfes
 sor Kenneth Armstrong\, University of Cambridge – Regulatory Policy and 
 Level Playing Field Obligations\nGeorge Peretz Q.C.\, Monckton Chambers 
 – State Aid Control\nMichael Bowsher Q.C.\, Monckton Chambers – Procur
 ement\nDr Oke Odudu\, University of Cambridge – The Role of the Competit
 ion and Markets Authority
CATEGORIES:General,Webinars
END:VEVENT
BEGIN:VTIMEZONE
TZID:Europe/London
X-LIC-LOCATION:Europe/London
BEGIN:STANDARD
DTSTART:20201025T010000
TZOFFSETFROM:+0100
TZOFFSETTO:+0000
TZNAME:GMT
END:STANDARD
END:VTIMEZONE
END:VCALENDAR