 


BEGIN:VCALENDAR
VERSION:2.0
PRODID:-//wp-events-plugin.com//7.2.3.1//EN
TZID:Europe/London
X-WR-TIMEZONE:Europe/London
BEGIN:VEVENT
UID:304@monckton.com
DTSTART;TZID=Europe/London;VALUE=DATE:20220616
DTEND;TZID=Europe/London;VALUE=DATE:20220618
DTSTAMP:20250807T144449Z
URL:https://www.monckton.com/event/legal-conference-common-law-in-europe/
SUMMARY:Legal Conference Common Law In Europe
DESCRIPTION:The conference is being organised by The Bar Council and the Cy
 prus Bar Association.\n\nConference topics to include:\n\n 	The implementa
 tion of the UK-EU Trade and Cooperation Agreement\n 	ECHR interpretation 
 – recent developments across the European common law jurisdictions\n 	Co
 mpany law developments in participating European Common Law jurisdictions\
 n 	The role of Blockchain and Cryptocurrencies in a Digital Economy: the l
 egal angle\n 	Sanctions from a legal and financial perspective (including 
 access to justice aspects)\n 	Regulation of financial markets- how to squa
 re economic imperatives and guarantees of minimum rights with effective en
 forcement\n 	International Arbitration and its importance in the common la
 w world - will the new Cypriot Commercial Court expand its use?\n 	Interim
  remedies in aid of foreign proceedings\n\nSteven Gee QC and Ian Rogers QC
  will be speaking.\n\nFor further information and to book\, please see Leg
 al Conference Common Law In Europe
CATEGORIES:General,Seminars
LOCATION:Columbia Plaza\, Agiou Andreou 223\, Limassol\, Cyprus
GEO:34.677144;33.047905
X-APPLE-STRUCTURED-LOCATION;VALUE=URI;X-ADDRESS=Agiou Andreou 223\, Limasso
 l\, Cyprus;X-APPLE-RADIUS=100;X-TITLE=Columbia Plaza:geo:34.677144,33.0479
 05
END:VEVENT
BEGIN:VTIMEZONE
TZID:Europe/London
X-LIC-LOCATION:Europe/London
BEGIN:DAYLIGHT
DTSTART:20220327T020000
TZOFFSETFROM:+0000
TZOFFSETTO:+0100
TZNAME:BST
END:DAYLIGHT
END:VTIMEZONE
END:VCALENDAR