 


BEGIN:VCALENDAR
VERSION:2.0
PRODID:-//wp-events-plugin.com//7.2.3.1//EN
TZID:Europe/London
X-WR-TIMEZONE:Europe/London
BEGIN:VEVENT
UID:340@monckton.com
DTSTART;TZID=Europe/London:20230512T170000
DTEND;TZID=Europe/London:20230512T180000
DTSTAMP:20230511T133110Z
URL:https://www.monckton.com/event/lecture-to-mark-the-contribution-of-sir
 -jeremy-lever-kcmg-qc-to-european-law-4/
SUMMARY:Lecture to mark the contribution of Sir Jeremy Lever KCMG KC to Eur
 opean Law
DESCRIPTION:The ninth annual Sir Jeremy Lever Lecture will be held at 1700 
 on Friday 12 May 2023 at the Gulbenkian Theatre\, St Cross Building\, Univ
 ersity of Oxford. All are welcome to attend.\n\nThis year’s lecturer wil
 l be Chiara Zilioli\, Legal Counsel to the European Central Bank\, on the 
 topic "25 years of the ECB: 5 Key CJEU Decisions that shaped the ECB profi
 le and the special Eurosystem integrated construction”. Professor Sir Jo
 hn Vickers\, Warden of All Souls College\, will take the chair.\n\nIf you 
 are unable to attend the lecture in person\, it can be viewed live here.
ATTACH;FMTTYPE=image/jpeg:https://www.monckton.com/wp-content/uploads/2020
 /01/doorknob-scaled.jpg
CATEGORIES:General,Webinars,Pupillage
LOCATION:Oxford Law Faculty\, St Cross Building\,  St.Cross Rd\,\, Oxford\,
  OX1 3UL\, United Kingdom
GEO:51.756991;-1.248514
X-APPLE-STRUCTURED-LOCATION;VALUE=URI;X-ADDRESS=St Cross Building\,  St.Cro
 ss Rd\,\, Oxford\, OX1 3UL\, United Kingdom;X-APPLE-RADIUS=100;X-TITLE=Oxf
 ord Law Faculty:geo:51.756991,-1.248514
END:VEVENT
BEGIN:VTIMEZONE
TZID:Europe/London
X-LIC-LOCATION:Europe/London
BEGIN:DAYLIGHT
DTSTART:20230326T020000
TZOFFSETFROM:+0000
TZOFFSETTO:+0100
TZNAME:BST
END:DAYLIGHT
END:VTIMEZONE
END:VCALENDAR