 


BEGIN:VCALENDAR
VERSION:2.0
PRODID:-//wp-events-plugin.com//7.2.3.1//EN
TZID:Europe/London
X-WR-TIMEZONE:Europe/London
BEGIN:VEVENT
UID:224@monckton.com
DTSTART;TZID=Europe/London:20201012T000000
DTEND;TZID=Europe/London:20201016T000000
DTSTAMP:20241125T233318Z
URL:https://www.monckton.com/event/judicial-review-trends-and-forecasts-20
 20/
SUMMARY:Judicial Review Trends and Forecasts 2020
DESCRIPTION:Khatija Hafesji will be speaking on "Using the law to protect t
 he vulnerable during COVID-19" on Wednesday\, 14 October.
CATEGORIES:General,Webinars
END:VEVENT
BEGIN:VTIMEZONE
TZID:Europe/London
X-LIC-LOCATION:Europe/London
BEGIN:DAYLIGHT
DTSTART:20200329T020000
TZOFFSETFROM:+0000
TZOFFSETTO:+0100
TZNAME:BST
END:DAYLIGHT
END:VTIMEZONE
END:VCALENDAR