 


BEGIN:VCALENDAR
VERSION:2.0
PRODID:-//wp-events-plugin.com//7.2.3.1//EN
TZID:Europe/London
X-WR-TIMEZONE:Europe/London
BEGIN:VEVENT
UID:125@monckton.com
DTSTART;TZID=Europe/London:20171124T123000
DTEND;TZID=Europe/London:20171124T123000
DTSTAMP:20260330T203700Z
URL:https://www.monckton.com/event/independent-trade-policy-brexit-trade-b
 ill/
SUMMARY:An independent trade policy: the Brexit Trade Bill
DESCRIPTION:Panos Koutrakos is participating in LExisNexis webinar on the 
 Trade Bill\, discussing the implications for the UK's future trade policy.
 \n\nFor more information please click here.
CATEGORIES:General
END:VEVENT
BEGIN:VTIMEZONE
TZID:Europe/London
X-LIC-LOCATION:Europe/London
BEGIN:STANDARD
DTSTART:20171029T010000
TZOFFSETFROM:+0100
TZOFFSETTO:+0000
TZNAME:GMT
END:STANDARD
END:VTIMEZONE
END:VCALENDAR