 


BEGIN:VCALENDAR
VERSION:2.0
PRODID:-//wp-events-plugin.com//7.2.3.1//EN
TZID:Europe/London
X-WR-TIMEZONE:Europe/London
BEGIN:VEVENT
UID:107@monckton.com
DTSTART;TZID=Europe/London:20170628T181500
DTEND;TZID=Europe/London:20170628T204500
DTSTAMP:20200520T054807Z
URL:https://www.monckton.com/event/how-to-challenge-a-procurement-and-win-
 without-litigating/
SUMMARY:How to challenge a procurement – and win - without litigating
DESCRIPTION: 6.15pm registration for a 6.30pm start | 1.5 CPD Points\n\nC
 hair: Michael Bowsher QC\n\nRob Williams: Introduction: Smart bidding – 
 why bidders need to engage with their legal rights sooner\n\n 	Why you sho
 uld challenge a procurement sooner rather than later:\n\n 	Chances of infl
 uencing shape of procurement\n 	Lower costs\n 	Better chances of success\n
  	Interaction with remedies later on - suspension\n 	Problems caused by ti
 me limits\n 	Court fees\n\n\n\nPhilip Moser QC:  Levelling the playing fi
 eld\n\n 	Pre-procurement engagement\n 	Technical specifications\n 	Incumbe
 ncy\n 	Unfair negotiation\n\nValentina Sloane: Transparency challenges\n\n
  	Open days\n 	 Vague criteria and methodology\n 	Clarifications\n 	Whole
  Life Costing\n 	Frameworks\n\nFiona Banks: Talking tactics\n\n 	Limitatio
 n\n 	How to make an early challenge\n 	Using the Regulations\n 	Avenues ou
 tside the regulations\n\nEwan West: If all else fails…\n\n 	The introduc
 tion to litigation we hope you’ll never need\n 	Applications:\n\n 	Injun
 ctions/suspension\n 	Disclosure\n\n\n\nThis seminar is free to attend\, to
  secure your place please click here.
CATEGORIES:General
LOCATION:Haberdasher's Hall\, 18 W Smithfield\, London \, EC1A 9HX\, United
  Kingdom
GEO:51.517998;-0.101748
X-APPLE-STRUCTURED-LOCATION;VALUE=URI;X-ADDRESS=18 W Smithfield\, London \,
  EC1A 9HX\, United Kingdom;X-APPLE-RADIUS=100;X-TITLE=Haberdasher's Hall:g
 eo:51.517998,-0.101748
END:VEVENT
BEGIN:VTIMEZONE
TZID:Europe/London
X-LIC-LOCATION:Europe/London
BEGIN:DAYLIGHT
DTSTART:20170326T020000
TZOFFSETFROM:+0000
TZOFFSETTO:+0100
TZNAME:BST
END:DAYLIGHT
END:VTIMEZONE
END:VCALENDAR