 


BEGIN:VCALENDAR
VERSION:2.0
PRODID:-//wp-events-plugin.com//7.2.3.1//EN
TZID:Europe/London
X-WR-TIMEZONE:Europe/London
BEGIN:VEVENT
UID:114@monckton.com
DTSTART;TZID=Europe/London:20170915T173000
DTEND;TZID=Europe/London:20170915T183000
DTSTAMP:20240925T141535Z
URL:https://www.monckton.com/event/hertford-alumni-gina-miller-case/
SUMMARY:The Gina Miller case in the Supreme Court and Parliament's role in 
 Brexit
DESCRIPTION:The recent "Gina Miller case"\, which tackled the question of P
 arliament's role in Brexit and Article 50\, had Hertford alumni on both si
 des of the argument. On Friday 15 September\, Lord Pannick QC and Jack Wil
 liams will join us to share their experience preparing the applicants' cas
 es\, while Rowena Collins-Rice will talk about her role preparing the gove
 rnment's case. Hertford's Law tutor\, Professor Alison Young will oversee 
 the discussion and will add her own perspective of participating in the me
 dia coverage. The panel will also be taking questions from the audience.\n
 \nOrganised by Hertford College\, Oxford for Hertford alumni.
CATEGORIES:General
END:VEVENT
BEGIN:VTIMEZONE
TZID:Europe/London
X-LIC-LOCATION:Europe/London
BEGIN:DAYLIGHT
DTSTART:20170326T020000
TZOFFSETFROM:+0000
TZOFFSETTO:+0100
TZNAME:BST
END:DAYLIGHT
END:VTIMEZONE
END:VCALENDAR