 


BEGIN:VCALENDAR
VERSION:2.0
PRODID:-//wp-events-plugin.com//7.2.3.1//EN
TZID:Europe/London
X-WR-TIMEZONE:Europe/London
BEGIN:VEVENT
UID:300@monckton.com
DTSTART;TZID=Europe/London;VALUE=DATE:20220602
DTEND;TZID=Europe/London;VALUE=DATE:20220604
DTSTAMP:20250807T144546Z
URL:https://www.monckton.com/event/global-trends-in-arbitration/
SUMMARY:Global Trends in Arbitration
DESCRIPTION:On Thursday\, 2nd June Christopher Vajda QC will be speaking at
  the session Investment Treaty Arbitration in Europe: a Changing Landscape
 .\n\nParticipation at the conference is by invitation only. For more infor
 mation please see Global Trends in Arbitration.
CATEGORIES:General,Seminars
LOCATION:Hotel Skeppsholmen\, Gröna gången 1\, Skeppsholmen\, 111 49 Stoc
 kholm\, Box 1616\, Sweden
GEO:59.324765;18.087537
X-APPLE-STRUCTURED-LOCATION;VALUE=URI;X-ADDRESS=Gröna gången 1\, Skeppsho
 lmen\, 111 49 Stockholm\, Box 1616\, Sweden;X-APPLE-RADIUS=100;X-TITLE=Hot
 el Skeppsholmen:geo:59.324765,18.087537
END:VEVENT
BEGIN:VTIMEZONE
TZID:Europe/London
X-LIC-LOCATION:Europe/London
BEGIN:DAYLIGHT
DTSTART:20220327T020000
TZOFFSETFROM:+0000
TZOFFSETTO:+0100
TZNAME:BST
END:DAYLIGHT
END:VTIMEZONE
END:VCALENDAR