 


BEGIN:VCALENDAR
VERSION:2.0
PRODID:-//wp-events-plugin.com//7.2.3.1//EN
TZID:Europe/London
X-WR-TIMEZONE:Europe/London
BEGIN:VEVENT
UID:253@monckton.com
DTSTART;TZID=Europe/London;VALUE=DATE:20210311
DTEND;TZID=Europe/London;VALUE=DATE:20210312
DTSTAMP:20210223T120332Z
URL:https://www.monckton.com/event/gcr-interactive-pharmaceuticals/
SUMMARY:GCR Interactive: Pharmaceuticals
DESCRIPTION:The GCR Interactive: Pharmaceuticals will be taking place on Zo
 om.\n\nPaul Harris QC will be speaking on the panel covering Class Certifi
 cation. Pharma antitrust litigation often centres on billions of dollars o
 f exposure. The size of these cases has focused appellate courts keenly on
  the proper standards for certification of class actions. The recent Asaco
 l case has led courts to be more cautious in granting class certification 
 in pharmaceutical and other antitrust cases. With the U.S. Supreme Court r
 ecently granting petitions of certiorari on fundamental class action issue
 s such as actual injury\, this session will consider what criteria is affe
 cting these analyses and whether they have been thorough enough.\n\n\n\n\n
 \n\n\nFor further information and to register\, click here.\n\n\n\n\n\n\n
CATEGORIES:General,Webinars
END:VEVENT
BEGIN:VTIMEZONE
TZID:Europe/London
X-LIC-LOCATION:Europe/London
BEGIN:STANDARD
DTSTART:20201025T010000
TZOFFSETFROM:+0100
TZOFFSETTO:+0000
TZNAME:GMT
END:STANDARD
END:VTIMEZONE
END:VCALENDAR