 


BEGIN:VCALENDAR
VERSION:2.0
PRODID:-//wp-events-plugin.com//7.2.3.1//EN
TZID:Europe/London
X-WR-TIMEZONE:Europe/London
BEGIN:VEVENT
UID:341@monckton.com
DTSTART;TZID=Europe/London:20230517T140000
DTEND;TZID=Europe/London:20230517T191500
DTSTAMP:20250807T143639Z
URL:https://www.monckton.com/event/frontline-perspectives-on-recent-develo
 pments-in-antitrust-litigation-privacy-and-mergers/
SUMMARY:Frontline Perspectives on Recent Developments in Antitrust Litigati
 on\, Privacy and Mergers
DESCRIPTION:Daniel Beard KC will be speaking at the Competition Expert Foru
 m in London.\n\nFor more information and registration please see here Fro
 ntline Perspectives on Recent Developments in Antitrust Litigation\, Priva
 cy and Mergers
ATTACH;FMTTYPE=image/jpeg:https://www.monckton.com/wp-content/uploads/2019
 /10/Daniel.BEARD-QC-HS-28051-scaled.jpg
CATEGORIES:General,Seminars
LOCATION:Saddlers’ Hall\, 40 Gutter Lane\,\, London \, EC2V 6BR\, United 
 Kingdom
GEO:51.514992;-0.095577
X-APPLE-STRUCTURED-LOCATION;VALUE=URI;X-ADDRESS=40 Gutter Lane\,\, London \
 , EC2V 6BR\, United Kingdom;X-APPLE-RADIUS=100;X-TITLE=Saddlers’ Hall:ge
 o:51.514992,-0.095577
END:VEVENT
BEGIN:VTIMEZONE
TZID:Europe/London
X-LIC-LOCATION:Europe/London
BEGIN:DAYLIGHT
DTSTART:20230326T020000
TZOFFSETFROM:+0000
TZOFFSETTO:+0100
TZNAME:BST
END:DAYLIGHT
END:VTIMEZONE
END:VCALENDAR