 


BEGIN:VCALENDAR
VERSION:2.0
PRODID:-//wp-events-plugin.com//7.2.3.1//EN
TZID:Europe/London
X-WR-TIMEZONE:Europe/London
BEGIN:VEVENT
UID:289@monckton.com
DTSTART:20220210T170000Z
DTEND:20220210T180000Z
DTSTAMP:20220204T094322Z
URL:https://www.monckton.com/event/foxglove-the-gmcdp-and-more-explain-wha
 t-the-dwps-secret-benefit-investigations-algorithm-is-and-how-we-can-fight
 -back-against-it/
SUMMARY:Foxglove\, the GMCDP and more explain what the DWP’s secret benef
 it investigations algorithm is and how we can fight back against it
DESCRIPTION:&nbsp\;\n\nWill Perry will be speaking at this webinar.\n\nFor 
 further details and to book\, please click here.
CATEGORIES:General,Webinars
END:VEVENT
END:VCALENDAR