 


BEGIN:VCALENDAR
VERSION:2.0
PRODID:-//wp-events-plugin.com//7.2.3.1//EN
TZID:Europe/London
X-WR-TIMEZONE:Europe/London
BEGIN:VEVENT
UID:12@monckton.com
DTSTART;TZID=Europe/London:20140918T183000
DTEND;TZID=Europe/London:20140918T203000
DTSTAMP:20200520T054640Z
URL:https://www.monckton.com/event/farrer-tax-debate-2014/
SUMMARY:Farrer Tax Debate 2014
DESCRIPTION:Melanie Hall QC will be speaking at the annual Farrer Tax Deba
 te on 18th September. \n\nThis year the motion is ‘This house believes t
 hat paying tax is a moral obligation\, not just a legal one.' \n\nThe eve
 nt will be chaired by Judge Roger Berner of the Upper Tribunal (Tax and Ch
 ancery). \n\n&nbsp\;
CATEGORIES:General
LOCATION:St. James' Court\, 54 Buckingham Gate\, Westminster\, SW1E 6AF\, U
 nited Kingdom
X-APPLE-STRUCTURED-LOCATION;VALUE=URI;X-ADDRESS=54 Buckingham Gate\, Westmi
 nster\, SW1E 6AF\, United Kingdom;X-APPLE-RADIUS=100;X-TITLE=St. James' Co
 urt:geo:0,0
END:VEVENT
BEGIN:VTIMEZONE
TZID:Europe/London
X-LIC-LOCATION:Europe/London
BEGIN:DAYLIGHT
DTSTART:20140330T020000
TZOFFSETFROM:+0000
TZOFFSETTO:+0100
TZNAME:BST
END:DAYLIGHT
END:VTIMEZONE
END:VCALENDAR