 


BEGIN:VCALENDAR
VERSION:2.0
PRODID:-//wp-events-plugin.com//7.2.3.1//EN
TZID:Europe/London
X-WR-TIMEZONE:Europe/London
BEGIN:VEVENT
UID:314@monckton.com
DTSTART;TZID=Europe/London:20221019T140000
DTEND;TZID=Europe/London:20221019T140000
DTSTAMP:20221007T150130Z
URL:https://www.monckton.com/event/european-defense-procurement/
SUMMARY:Developments in Defense Procurement Law: Europe and the United Stat
 es
DESCRIPTION:Europe’s rapidly evolving security situation has launched a d
 efense build-up of unprecedented scale and scope in the European theater. 
 Join these free one-hour webinars\, sponsored by the Dickson Poon School o
 f Law at King’s College\, London and the George Washington University La
 w School’s Government Procurement Law Program\, to discuss key legal cha
 llenges governments and contractors face in emerging defense markets\, bot
 h in Europe and the United States.\n\nMichael Bowsher KC will be moderatin
 g teh sessions.\n\nEuropean Defense Procurement:  Wednesday\, October 19\
 , 2022\, 9 am / 14:00 UK / 15:00 CET \n\nU.S. Defense Procurement: Wedne
 sday\, November 9\, 2022\, 9 am Eastern / 14:00 UK / 15:00 CET\n\nFor furt
 her information and to register\, please click here.
ATTACH;FMTTYPE=image/jpeg:https://www.monckton.com/wp-content/uploads/2019
 /10/MichaelBOWSHER_QC-HS-26170-scaled.jpg
CATEGORIES:General,Webinars
END:VEVENT
BEGIN:VTIMEZONE
TZID:Europe/London
X-LIC-LOCATION:Europe/London
BEGIN:DAYLIGHT
DTSTART:20220327T020000
TZOFFSETFROM:+0000
TZOFFSETTO:+0100
TZNAME:BST
END:DAYLIGHT
END:VTIMEZONE
END:VCALENDAR