 


BEGIN:VCALENDAR
VERSION:2.0
PRODID:-//wp-events-plugin.com//7.2.3.1//EN
TZID:Europe/London
X-WR-TIMEZONE:Europe/London
BEGIN:VEVENT
UID:327@monckton.com
DTSTART;TZID=Europe/London;VALUE=DATE:20230420
DTEND;TZID=Europe/London;VALUE=DATE:20230421
DTSTAMP:20230209T140025Z
URL:https://www.monckton.com/event/eu-competition-law-dublin-3/
SUMMARY:EU Competition Law\, Dublin
DESCRIPTION:Join the annual forum for competition lawyers in Ireland and be
 yond to review the new Competition (Amendment) Act 2022 and recent enforce
 ment actions. Share practical strategies and best practice to address curr
 ent challenges in merger control\, digital markets\, vertical restraints a
 nd state aid.\n\nGeorge Peretz KC will be speaking on State Aid and Subsid
 y Control.\n\nFor further information and to book please click here.\n\n&n
 bsp\;
ATTACH;FMTTYPE=image/jpeg:https://www.monckton.com/wp-content/uploads/2019
 /10/George-PERETZ-QC-HS-28132-scaled.jpg
CATEGORIES:General
END:VEVENT
BEGIN:VTIMEZONE
TZID:Europe/London
X-LIC-LOCATION:Europe/London
BEGIN:DAYLIGHT
DTSTART:20230326T020000
TZOFFSETFROM:+0000
TZOFFSETTO:+0100
TZNAME:BST
END:DAYLIGHT
END:VTIMEZONE
END:VCALENDAR