 


BEGIN:VCALENDAR
VERSION:2.0
PRODID:-//wp-events-plugin.com//7.2.3.1//EN
TZID:Europe/London
X-WR-TIMEZONE:Europe/London
BEGIN:VEVENT
UID:252@monckton.com
DTSTART;TZID=Europe/London;VALUE=DATE:20210311
DTEND;TZID=Europe/London;VALUE=DATE:20210312
DTSTAMP:20210215T170455Z
URL:https://www.monckton.com/event/eu-competition-law-dublin-2/
SUMMARY:EU Competition Law\, Dublin
DESCRIPTION:This conference will bring together regulators\, in-house couns
 el and top legal minds from Ireland and beyond to analyse how ECN+ Directi
 ve will change Irish Competition Law\, share practical strategies and cons
 ider how competition law is adapting in the age of COVID-19\, Brexit and g
 reater protectionism.\n\nAlan Bates will be a part of the panel discussing
  State Aid in the Age of COVID-19.\n\nFor further details and to book plea
 se click here.
CATEGORIES:General,Webinars
END:VEVENT
BEGIN:VTIMEZONE
TZID:Europe/London
X-LIC-LOCATION:Europe/London
BEGIN:STANDARD
DTSTART:20201025T010000
TZOFFSETFROM:+0100
TZOFFSETTO:+0000
TZNAME:GMT
END:STANDARD
END:VTIMEZONE
END:VCALENDAR