 


BEGIN:VCALENDAR
VERSION:2.0
PRODID:-//wp-events-plugin.com//7.2.3.1//EN
TZID:Europe/London
X-WR-TIMEZONE:Europe/London
BEGIN:VEVENT
UID:383@monckton.com
DTSTART;TZID=Europe/Brussels:20250617T173000
DTEND;TZID=Europe/Brussels:20250617T210000
DTSTAMP:20250616T065114Z
URL:https://www.monckton.com/event/enforcement-of-intra-eu-bit-and-ect-awa
 rds-in-third-countries-outside-the-eu/
SUMMARY:Enforcement of intra-EU BIT and ECT awards in third countries outsi
 de the EU
DESCRIPTION:Mr. Christopher Vajda KC will open with a keynote speech on dev
 elopments after the Achmea and Komstroy cases in commercial and investor-
 State arbitrations\, followed by an open discussion between the panellists
  on EU and third country case law\, enforcement scenarios\, and EU interv
 entions. The discussion will cover recent jurisprudence from the EU\, UK\
 , US\, Australia\, and Switzerland. On-site participants are invited to jo
 in a light networking reception after the panel.\n\nThe event is organise
 d by The European Dispute Resolution Society. For more information click h
 ere.
ATTACH;FMTTYPE=image/jpeg:https://www.monckton.com/wp-content/uploads/2020
 /10/Christopher_Vajda-HS-23777-scaled.jpg
CATEGORIES:General,Seminars
LOCATION:ACQUIS\, Rue du Trône 98 (1st floor)\, Brussels\, Belgium\, 1050\
 , United Kingdom
GEO:50.836957;4.37056
X-APPLE-STRUCTURED-LOCATION;VALUE=URI;X-ADDRESS=Rue du Trône 98 (1st floor
 )\, Brussels\, Belgium\, 1050\, United Kingdom;X-APPLE-RADIUS=100;X-TITLE=
 ACQUIS:geo:50.836957,4.37056
END:VEVENT
BEGIN:VTIMEZONE
TZID:Europe/Brussels
X-LIC-LOCATION:Europe/Brussels
BEGIN:DAYLIGHT
DTSTART:20250330T030000
TZOFFSETFROM:+0100
TZOFFSETTO:+0200
TZNAME:CEST
END:DAYLIGHT
END:VTIMEZONE
END:VCALENDAR