 


BEGIN:VCALENDAR
VERSION:2.0
PRODID:-//wp-events-plugin.com//7.2.3.1//EN
TZID:Europe/London
X-WR-TIMEZONE:Europe/London
BEGIN:VEVENT
UID:135@monckton.com
DTSTART;TZID=Europe/London:20180503T183000
DTEND;TZID=Europe/London:20180503T200000
DTSTAMP:20200520T054809Z
URL:https://www.monckton.com/event/cutting-edge-developments-in-pharma-ant
 itrust-2018/
SUMMARY:Cutting edge developments in pharma antitrust 2018
DESCRIPTION:6pm registration for a 6.30pm start | 1 CPD Point\n\nReflection
 s/lessons learnt from Monckton Counsel acting in the seminal EU/UK cases: 
 Pfizer/Flynn and the blockbuster ‘pay for delay’ cases of Lundbeck\, S
 ervier and Paroxetine\n\nChair: Josh Holmes QC\n\nMark Brealey QC and Roni
 t Kreisberger\n\n 	The role of benchmarks in the analysis of excessive pri
 ces – for drugs and generally\n 	Significance of the AG Wahl Opinion / J
 udgment in the Latvian copyright society case\n 	The antitrust regulator
 ’s approach to testing prices\n 	Deploying evidence on prices in the CAT
 \n 	Competition law as a tool to plug a regulatory lacuna\n\nJon Turner QC
 \n\n 	Proving one’s case in the CAT: the “pay for delay” experience\
 , CAT procedure\, and forensic tactics\n 	Defining the market in the conte
 xt of suspected abuse of dominance by pharma companies\n\nGeorge Peretz QC
 \n\n 	Where are we now? Lundbeck\, Servier and\, now\, Paroxetine in the E
 CJ\n\nThis seminar is free to attend\, to secure your place please click h
 ere.
CATEGORIES:General
LOCATION:Haberdasher's Hall\, 18 W Smithfield\, London \, EC1A 9HX\, United
  Kingdom
GEO:51.517998;-0.101748
X-APPLE-STRUCTURED-LOCATION;VALUE=URI;X-ADDRESS=18 W Smithfield\, London \,
  EC1A 9HX\, United Kingdom;X-APPLE-RADIUS=100;X-TITLE=Haberdasher's Hall:g
 eo:51.517998,-0.101748
END:VEVENT
BEGIN:VTIMEZONE
TZID:Europe/London
X-LIC-LOCATION:Europe/London
BEGIN:DAYLIGHT
DTSTART:20180325T020000
TZOFFSETFROM:+0000
TZOFFSETTO:+0100
TZNAME:BST
END:DAYLIGHT
END:VTIMEZONE
END:VCALENDAR