 


BEGIN:VCALENDAR
VERSION:2.0
PRODID:-//wp-events-plugin.com//7.2.3.1//EN
TZID:Europe/London
X-WR-TIMEZONE:Europe/London
BEGIN:VEVENT
UID:320@monckton.com
DTSTART;TZID=Europe/Paris:20221215T150000
DTEND;TZID=Europe/Paris:20221215T183000
DTSTAMP:20250807T143220Z
URL:https://www.monckton.com/event/current-transformations-in-public-procu
 rement-law-a-european-perspective/
SUMMARY:Current Transformations in Public Procurement Law – A European Pe
 rspective
DESCRIPTION:An international workshop where Michael Bowsher KC will be on t
 he panel discussing "Tools fostering innovation and sustainability in publ
 ic procurement law".\n\nFor further information and to register please see
  here Current Transformations in Public Procurement Law – A European Pe
 rspective
CATEGORIES:General,Seminars
LOCATION:Maison de l’Ile de France\, 17 boulevard Jourdan\, Paris\, 75014
   \, France
GEO:48.819976;2.338715
X-APPLE-STRUCTURED-LOCATION;VALUE=URI;X-ADDRESS=17 boulevard Jourdan\, Pari
 s\, 75014  \, France;X-APPLE-RADIUS=100;X-TITLE=Maison de l’Ile de Franc
 e:geo:48.819976,2.338715
END:VEVENT
BEGIN:VTIMEZONE
TZID:Europe/Paris
X-LIC-LOCATION:Europe/Paris
BEGIN:STANDARD
DTSTART:20221030T020000
TZOFFSETFROM:+0200
TZOFFSETTO:+0100
TZNAME:CET
END:STANDARD
END:VTIMEZONE
END:VCALENDAR