 


BEGIN:VCALENDAR
VERSION:2.0
PRODID:-//wp-events-plugin.com//7.2.3.1//EN
TZID:Europe/London
X-WR-TIMEZONE:Europe/London
BEGIN:VEVENT
UID:290@monckton.com
DTSTART:20220307T153000Z
DTEND:20220307T200000Z
DTSTAMP:20250806T102703Z
URL:https://www.monckton.com/event/competition-collective-actions-leveragi
 ng-canadian-legal-principles-in-the-uks-new-regime-paul-harris-qc-to-moder
 ate/
SUMMARY:Competition Collective Actions: Leveraging Canadian Legal Principle
 s in the UK’s New Regime – Paul Harris QC to moderate
DESCRIPTION:In light of the influence that Canadian jurisprudence and pract
 ice has already had on the development of collective action jurisprudence 
 in the UK\, including in the recent decision in Merricks v. Mastercard\, P
 aul Harris QC of Monckton Chambers and the Canadian law firm McCarthy Tét
 rault\, have assembled a panel of Canadian leaders in class actions\, incl
 uding competition class actions\, who will engage in a lively discussion c
 entred on the UK’s new collective action regime. Paul will co-moderate t
 he event with Mark Sansom of Freshfields Bruckhaus Deringer. Thomas N.T. S
 utton of McCarthy Tétrault\, Toronto will act as host.\n\nThe event will 
 be an in-person presentation and fireside chat followed by a reception wit
 h light food &amp\; beverages. Registration is required. For further detai
 ls see flyer Competition Collective Actions: Leveraging Canadian Legal Pri
 nciples in the UK’s New Regime.\n\nFor questions about this event or add
 itional information\, please contact clientevents@mccarthy.ca.
CATEGORIES:General,Seminars
LOCATION:One Moorgate Place\, Chartered Accountants' Hall\, London\, EC2R 6
 EA\, United Kingdom
GEO:51.516634;-0.088635
X-APPLE-STRUCTURED-LOCATION;VALUE=URI;X-ADDRESS=Chartered Accountants' Hall
 \, London\, EC2R 6EA\, United Kingdom;X-APPLE-RADIUS=100;X-TITLE=One Moorg
 ate Place:geo:51.516634,-0.088635
END:VEVENT
END:VCALENDAR