 


BEGIN:VCALENDAR
VERSION:2.0
PRODID:-//wp-events-plugin.com//7.2.3.1//EN
TZID:Europe/London
X-WR-TIMEZONE:Europe/London
BEGIN:VEVENT
UID:109@monckton.com
DTSTART;TZID=Europe/London:20170912T173000
DTEND;TZID=Europe/London:20170912T193000
DTSTAMP:20200520T054808Z
URL:https://www.monckton.com/event/common-fisheries-policy-post-brexit/
SUMMARY:The Common Fisheries Policy Post-Brexit
DESCRIPTION:The UK’s decision to withdraw from the EU will have important
  consequences for the fisheries sector in the UK.\n\nPeter Oliver will be 
 chairing the discussion about the issues in the context of Brexit and CFP.
 \n\nFor more information and to secure your place please click here.\n\n&n
 bsp\;
CATEGORIES:General
LOCATION:Herbert Smith Freehills\, Exchange House\, Primrose St\, London\, 
 EC2A 2EG\, United Kingdom
GEO:51.520401;-0.080911
X-APPLE-STRUCTURED-LOCATION;VALUE=URI;X-ADDRESS=Exchange House\, Primrose S
 t\, London\, EC2A 2EG\, United Kingdom;X-APPLE-RADIUS=100;X-TITLE=Herbert 
 Smith Freehills:geo:51.520401,-0.080911
END:VEVENT
BEGIN:VTIMEZONE
TZID:Europe/London
X-LIC-LOCATION:Europe/London
BEGIN:DAYLIGHT
DTSTART:20170326T020000
TZOFFSETFROM:+0000
TZOFFSETTO:+0100
TZNAME:BST
END:DAYLIGHT
END:VTIMEZONE
END:VCALENDAR