 


BEGIN:VCALENDAR
VERSION:2.0
PRODID:-//wp-events-plugin.com//7.2.3.1//EN
TZID:Europe/London
X-WR-TIMEZONE:Europe/London
BEGIN:VEVENT
UID:193@monckton.com
DTSTART:20200402T170000Z
DTEND:20200416T180000Z
DTSTAMP:20260330T174207Z
URL:https://www.monckton.com/event/commercial-litigation-arbitration-video
 -roundtables/
SUMMARY:Commercial Litigation & Arbitration Video Roundtables
DESCRIPTION:Monckton Junior Commercial Seminar - 1\n\nApril 2nd – 5pm\n\n
 Will Hooper - Frustration &amp\; Force Majeure: a reminder of the principl
 es in the wake of COVID-19.\n\nAlfred Artley - Enforcement of 'hybrid' for
 eign penal judgments: Review of the traditional common law rule against th
 e enforcement of foreign penal sanctions as per Huntingdon v Attrill\, [18
 93] A.C. 150 and an examination of how this is to be interpreted in respec
 t of so-called 'hybrid' civil/criminal judgments with reference to more re
 cent Commonwealth authorities.\n\nMonckton Junior Commercial Seminar - 2\n
 \nApril 9th – 5pm\n\nCiar McAndrew - Evidence from abroad: Obtaining evi
 dence in Arbitral proceedings from witnesses based in other EU Member Stat
 es.\n\nMonckton Junior Commercial Seminar - 3\n\nApril 16th – 5pm\n\nWil
 l Hooper - Late amendments: pitfalls and procedure. Will recently acted fo
 r the successful party in Fisken v Carl [2019] EWHC 3360 (Comm) which conc
 erned very late amendments to make allegations of fraud in the purchase of
  the world's most expensive car.\n\nAll of these seminars will be delivere
 d over Zoom conferencing. Please register your interest for any of the ses
 sions with Chris at cobrien@monckton.com and he will supply the relevant j
 oining details.
CATEGORIES:General,Webinars
END:VEVENT
END:VCALENDAR