 


BEGIN:VCALENDAR
VERSION:2.0
PRODID:-//wp-events-plugin.com//7.2.3.1//EN
TZID:Europe/London
X-WR-TIMEZONE:Europe/London
BEGIN:VEVENT
UID:325@monckton.com
DTSTART;TZID=Europe/London:20230124T173000
DTEND;TZID=Europe/London:20230124T193000
DTSTAMP:20230124T140451Z
URL:https://www.monckton.com/event/combar-student-mentoring-workshop-and-r
 eception/
SUMMARY:COMBAR Student Mentoring Workshop and Reception
DESCRIPTION:A mentoring workshop will be held on 24 January 2023 in the Lar
 ge Pension Room at Gray’s Inn.  It is planned to begin with introductor
 y remarks made by Mr Justice Foxton\, a serving High Court Judge who sits 
 in the Commercial Court\, followed by a series of talks and a panel discus
 sion from commercial barristers\, details are here.\n\nAnneli Howard KC wi
 ll be speaking in the final session on "Pupillage interviews: panel discus
 sion with questions"
ATTACH;FMTTYPE=image/jpeg:https://www.monckton.com/wp-content/uploads/2019
 /10/Anneli-Howard-HS-27351-scaled.jpg
CATEGORIES:Pupillage
LOCATION:The Large Pension Room\, The Honourable Society of Gray's Inn\, 8 
 South Square\, London\, WC1R 5ET\, United Kingdom
GEO:51.51929;-0.112253
X-APPLE-STRUCTURED-LOCATION;VALUE=URI;X-ADDRESS=The Honourable Society of G
 ray's Inn\, 8 South Square\, London\, WC1R 5ET\, United Kingdom;X-APPLE-RA
 DIUS=100;X-TITLE=The Large Pension Room:geo:51.51929,-0.112253
END:VEVENT
BEGIN:VTIMEZONE
TZID:Europe/London
X-LIC-LOCATION:Europe/London
BEGIN:STANDARD
DTSTART:20221030T010000
TZOFFSETFROM:+0100
TZOFFSETTO:+0000
TZNAME:GMT
END:STANDARD
END:VTIMEZONE
END:VCALENDAR