 


BEGIN:VCALENDAR
VERSION:2.0
PRODID:-//wp-events-plugin.com//7.2.3.1//EN
TZID:Europe/London
X-WR-TIMEZONE:Europe/London
BEGIN:VEVENT
UID:299@monckton.com
DTSTART;TZID=Europe/London:20220428T094500
DTEND;TZID=Europe/London:20220428T171500
DTSTAMP:20220421T133909Z
URL:https://www.monckton.com/event/catching-fire-traditional-tools-new-fro
 ntiers/
SUMMARY:Catching FIRE: Traditional Tools & New Frontiers
DESCRIPTION:Steven Gee QC will be part of the panel discussing the use of 
 how traditional litigation tools/procedure can be adapted to 21st century 
 FIRE tech disputes:\n\n 	Practical solutions available to victims of crypt
 o-asset theft from an asset recovery and financing perspective\n 	Foglia c
 ase\n 	Admissibility of evidence obtained through hacking\n 	Class actions
  and data claims\n 	How civil fraud has evolved with the ages and tech dev
 elopments\n\nFor more information please click here.
CATEGORIES:General,Seminars
LOCATION:One Moorgate Place\, Chartered Accountants' Hall\, London\, EC2R 6
 EA\, United Kingdom
GEO:51.516634;-0.088635
X-APPLE-STRUCTURED-LOCATION;VALUE=URI;X-ADDRESS=Chartered Accountants' Hall
 \, London\, EC2R 6EA\, United Kingdom;X-APPLE-RADIUS=100;X-TITLE=One Moorg
 ate Place:geo:51.516634,-0.088635
END:VEVENT
BEGIN:VTIMEZONE
TZID:Europe/London
X-LIC-LOCATION:Europe/London
BEGIN:DAYLIGHT
DTSTART:20220327T020000
TZOFFSETFROM:+0000
TZOFFSETTO:+0100
TZNAME:BST
END:DAYLIGHT
END:VTIMEZONE
END:VCALENDAR