 


BEGIN:VCALENDAR
VERSION:2.0
PRODID:-//wp-events-plugin.com//7.2.3.1//EN
TZID:Europe/London
X-WR-TIMEZONE:Europe/London
BEGIN:VEVENT
UID:250@monckton.com
DTSTART;TZID=Europe/London:20210211T134500
DTEND;TZID=Europe/London:20210211T171500
DTSTAMP:20210126T112203Z
URL:https://www.monckton.com/event/brexit-what-happens-now-advising-client
 s-on-the-eu-uk-trade-and-cooperation-agreement-tca-the-upcoming-changes-in
 -uk-law/
SUMMARY:Brexit - what happens now? Advising Clients on the EU-UK Trade and 
 Cooperation Agreement (TCA): The upcoming changes in UK Law
DESCRIPTION:&nbsp\;\n\nViews on all matters related to "Brexit" will never 
 be reconciled. Those that regard it as "a decision of epic stupidity" will
  never agree with those that think it's the best thing that's happened sin
 ce the abolition of slavery. But that is\, now\, history.\n\nGeorge Peretz
  QC\, Valentina Sloane QC and Professor Carl Baudenbacher will be speaking
  on different topics.  Anneli Howard will take the chair.\n\nPromotional 
 code MKTN provides a 25% discount off the £210 ticket price. Please note 
 the code is case sensitive.\n\nFor more information and to book please cli
 ck here.
CATEGORIES:General,Webinars
END:VEVENT
BEGIN:VTIMEZONE
TZID:Europe/London
X-LIC-LOCATION:Europe/London
BEGIN:STANDARD
DTSTART:20201025T010000
TZOFFSETFROM:+0100
TZOFFSETTO:+0000
TZNAME:GMT
END:STANDARD
END:VTIMEZONE
END:VCALENDAR