 


BEGIN:VCALENDAR
VERSION:2.0
PRODID:-//wp-events-plugin.com//7.2.3.1//EN
TZID:Europe/London
X-WR-TIMEZONE:Europe/London
BEGIN:VEVENT
UID:356@monckton.com
DTSTART;TZID=Europe/London:20231122T140000
DTEND;TZID=Europe/London:20231122T173000
DTSTAMP:20231116T103106Z
URL:https://www.monckton.com/event/bila-conference-a-technological-dawn-fo
 r-insurance-ai-and-cryptoassets-navigating-the-risks-issues-and-liabilitie
 s/
SUMMARY:BILA Conference – A Technological Dawn for Insurance (AI and Cryp
 toassets): Navigating the Risks\, Issues and Liabilities
DESCRIPTION:A conference looking at AI and cryptoassets\, and their relati
 on to insurance. \n\nBrendan McGurk will be speaking at the conference on 
 Cryptoassets.\n\nFor more information and registration please click here.
ATTACH;FMTTYPE=image/jpeg:https://www.monckton.com/wp-content/uploads/2019
 /03/Brendan-McGurk-HS2-27.-NSP22107-scaled.jpg
CATEGORIES:General,Seminars
LOCATION:The Old Library\, Lloyd's Of London\, One Lime Street\, London \, 
 EC3M 7HA \, United Kingdom
GEO:51.513083;-0.082511
X-APPLE-STRUCTURED-LOCATION;VALUE=URI;X-ADDRESS=Lloyd's Of London\, One Lim
 e Street\, London \, EC3M 7HA \, United Kingdom;X-APPLE-RADIUS=100;X-TITLE
 =The Old Library:geo:51.513083,-0.082511
END:VEVENT
BEGIN:VTIMEZONE
TZID:Europe/London
X-LIC-LOCATION:Europe/London
BEGIN:STANDARD
DTSTART:20231029T010000
TZOFFSETFROM:+0100
TZOFFSETTO:+0000
TZNAME:GMT
END:STANDARD
END:VTIMEZONE
END:VCALENDAR