 


BEGIN:VCALENDAR
VERSION:2.0
PRODID:-//wp-events-plugin.com//7.2.3.1//EN
TZID:Europe/London
X-WR-TIMEZONE:Europe/London
BEGIN:VEVENT
UID:400@monckton.com
DTSTART;TZID=Europe/London:20260715T100000
DTEND;TZID=Europe/London:20260715T161500
DTSTAMP:20260330T070420Z
URL:https://www.monckton.com/event/all-things-vat-2026-virtual-conference/
SUMMARY:All Things VAT 2026 Virtual Conference
DESCRIPTION:The sessions explore the points where statutory rules\, commerc
 ial structures and public law principles intersect\, offering space to exa
 mine emerging risks\, recent jurisprudence and the strategic consideration
 s that shape effective VAT management. It is designed for professionals wh
 o work with complex fact patterns and high impact decisions\, providing in
 sight that supports sharper analysis and more confident navigation of the 
 challenges ahead.\n\nAndrew Macnab will speak at the session 3:15pm-4:15pm
 : Tour Operators’ Margin Scheme Update.\n\nFor more information and regi
 stration please click here.
ATTACH;FMTTYPE=image/jpeg:https://www.monckton.com/wp-content/uploads/2019
 /10/Andrew-MACNAB-HS-24722-scaled.jpg
CATEGORIES:General,Webinars
END:VEVENT
BEGIN:VTIMEZONE
TZID:Europe/London
X-LIC-LOCATION:Europe/London
BEGIN:DAYLIGHT
DTSTART:20260329T020000
TZOFFSETFROM:+0000
TZOFFSETTO:+0100
TZNAME:BST
END:DAYLIGHT
END:VTIMEZONE
END:VCALENDAR