 


BEGIN:VCALENDAR
VERSION:2.0
PRODID:-//wp-events-plugin.com//7.2.3.1//EN
TZID:Europe/London
X-WR-TIMEZONE:Europe/London
BEGIN:VEVENT
UID:352@monckton.com
DTSTART;TZID=Europe/London;VALUE=DATE:20231031
DTEND;TZID=Europe/London;VALUE=DATE:20231101
DTSTAMP:20231027T115754Z
URL:https://www.monckton.com/event/ai-and-society-forum-event-wellcome-col
 lection/
SUMMARY:AI and Society Forum event - Wellcome Collection
DESCRIPTION:Will Perry is speaking at an AI and Society Forum event at the 
 Wellcome Collection on 31 October 2023. The purpose of the event is to gat
 her civil society and AI experts ahead of the UK Government’s forthcomin
 g AI Safety Summit.\n\nFurther details are available here.
ATTACH;FMTTYPE=image/jpeg:https://www.monckton.com/wp-content/uploads/2019
 /10/Will-Perry-1922-headshot.jpg
CATEGORIES:General,Seminars
END:VEVENT
BEGIN:VTIMEZONE
TZID:Europe/London
X-LIC-LOCATION:Europe/London
BEGIN:STANDARD
DTSTART:20231029T010000
TZOFFSETFROM:+0100
TZOFFSETTO:+0000
TZNAME:GMT
END:STANDARD
END:VTIMEZONE
END:VCALENDAR