 


BEGIN:VCALENDAR
VERSION:2.0
PRODID:-//wp-events-plugin.com//7.2.3.1//EN
TZID:Europe/London
X-WR-TIMEZONE:Europe/London
BEGIN:VEVENT
UID:263@monckton.com
DTSTART;TZID=Europe/London;VALUE=DATE:20210526
DTEND;TZID=Europe/London;VALUE=DATE:20210528
DTSTAMP:20210511T103534Z
URL:https://www.monckton.com/event/advanced-international-competition-law/
SUMMARY:Advanced International Competition Law
DESCRIPTION:&nbsp\;\nAs the UK has now left the European Union and yet Lond
 on remains an international business capital\, Informa Connect have taken 
 the opportunity to revise the Advanced EU Competition Law\, London confer
 ence to Advanced International Competition Law\, London.\nOffering the sa
 me in-depth\, practical review of all the major competition law developme
 nts but now not only from an EU perspective but also looking at the fut
 ure of the UK competition law regime as well as the international compet
 ition law developments which a truly global business needs to understand.
 \n\nAnneli Howard QC will be on the panel discussing UK Competition Law Po
 st-Brexit on 26 May\, Christopher Vajda QC will be chair on 27 May.\n\nFor
  further information and to book please click here.
CATEGORIES:General,Webinars
END:VEVENT
BEGIN:VTIMEZONE
TZID:Europe/London
X-LIC-LOCATION:Europe/London
BEGIN:DAYLIGHT
DTSTART:20210328T020000
TZOFFSETFROM:+0000
TZOFFSETTO:+0100
TZNAME:BST
END:DAYLIGHT
END:VTIMEZONE
END:VCALENDAR