 


BEGIN:VCALENDAR
VERSION:2.0
PRODID:-//wp-events-plugin.com//7.2.3.1//EN
TZID:Europe/London
X-WR-TIMEZONE:Europe/London
BEGIN:VEVENT
UID:302@monckton.com
DTSTART;TZID=Europe/London;VALUE=DATE:20220524
DTEND;TZID=Europe/London;VALUE=DATE:20220526
DTSTAMP:20220519T140658Z
URL:https://www.monckton.com/event/advanced-international-competition-law-
 2/
SUMMARY:Advanced International Competition Law
DESCRIPTION:The definitive review of competition law in London - bringing t
 ogether regulators\, in-house counsel\, lawyers and economists to dissect 
 current policies and shape strategies for the future.\nAlison Berridge wil
 l be on the panel "Mergers &amp\; Jurisdictions: Handling the New Uncertai
 nty" on 25th May.\n\nFor further information and to book please click here
 .
CATEGORIES:General
LOCATION:The Bloomsbury\, 16-22 Great Russel Street\, London\, WC1B 3NN\, U
 nited Kingdom
X-APPLE-STRUCTURED-LOCATION;VALUE=URI;X-ADDRESS=16-22 Great Russel Street\,
  London\, WC1B 3NN\, United Kingdom;X-APPLE-RADIUS=100;X-TITLE=The Bloomsb
 ury:geo:0,0
END:VEVENT
BEGIN:VTIMEZONE
TZID:Europe/London
X-LIC-LOCATION:Europe/London
BEGIN:DAYLIGHT
DTSTART:20220327T020000
TZOFFSETFROM:+0000
TZOFFSETTO:+0100
TZNAME:BST
END:DAYLIGHT
END:VTIMEZONE
END:VCALENDAR