 


BEGIN:VCALENDAR
VERSION:2.0
PRODID:-//wp-events-plugin.com//7.2.3.1//EN
TZID:Europe/London
X-WR-TIMEZONE:Europe/London
BEGIN:VEVENT
UID:333@monckton.com
DTSTART;TZID=Europe/London;VALUE=DATE:20230425
DTEND;TZID=Europe/London;VALUE=DATE:20230427
DTSTAMP:20230327T152337Z
URL:https://www.monckton.com/event/advanced-eu-competition-law-3/
SUMMARY:Advanced EU Competition Law
DESCRIPTION:Join the most eminent speakers and practitioners for in-depth p
 resentations\, interactive panels and Q&amp\;As. Take advantage of their e
 xpert knowledge\, and learn how you can apply their experiences to your ow
 n practice and business.\n\nTim Ward KC and Daniel Beard KC will chair the
  event.\n\nFor further information and to book\, please click here.
CATEGORIES:General
LOCATION:Hilton London Canary Wharf\, Marsh Wall South Quay\, London\, E14 
 9SH\, United Kingdom
GEO:51.500695;-0.016957
X-APPLE-STRUCTURED-LOCATION;VALUE=URI;X-ADDRESS=Marsh Wall South Quay\, Lon
 don\, E14 9SH\, United Kingdom;X-APPLE-RADIUS=100;X-TITLE=Hilton London Ca
 nary Wharf:geo:51.500695,-0.016957
END:VEVENT
BEGIN:VTIMEZONE
TZID:Europe/London
X-LIC-LOCATION:Europe/London
BEGIN:DAYLIGHT
DTSTART:20230326T020000
TZOFFSETFROM:+0000
TZOFFSETTO:+0100
TZNAME:BST
END:DAYLIGHT
END:VTIMEZONE
END:VCALENDAR